BEGIN:VCALENDAR
VERSION:2.0
PRODID:-// - ECPv6.9.0//NONSGML v1.0//EN
CALSCALE:GREGORIAN
METHOD:PUBLISH
X-ORIGINAL-URL:https://www.neweralutheran.com
X-WR-CALDESC:Events for 
REFRESH-INTERVAL;VALUE=DURATION:PT1H
X-Robots-Tag:noindex
X-PUBLISHED-TTL:PT1H
BEGIN:VTIMEZONE
TZID:America/Chicago
BEGIN:DAYLIGHT
TZOFFSETFROM:-0600
TZOFFSETTO:-0500
TZNAME:CDT
DTSTART:20250309T080000
END:DAYLIGHT
BEGIN:STANDARD
TZOFFSETFROM:-0500
TZOFFSETTO:-0600
TZNAME:CST
DTSTART:20251102T070000
END:STANDARD
END:VTIMEZONE
BEGIN:VEVENT
DTSTART;TZID=America/Chicago:20250712T093000
DTEND;TZID=America/Chicago:20250712T120000
DTSTAMP:20260422T033633
CREATED:20250624T162251Z
LAST-MODIFIED:20250624T162351Z
UID:10001314-1752312600-1752321600@www.neweralutheran.com
SUMMARY:Vacation Bible School
DESCRIPTION:D.O.G. (Depend on God).  Trust in the Lord with all your heart and lean not on your own understanding.  Proverbs 3:5
URL:https://www.neweralutheran.com/event/vacation-bible-school-2/
ORGANIZER;CN="New Era Lutheran Church":MAILTO:neweralutheran@gmail.com
END:VEVENT
END:VCALENDAR