BEGIN:VCALENDAR
VERSION:2.0
PRODID:-// - ECPv6.9.0//NONSGML v1.0//EN
CALSCALE:GREGORIAN
METHOD:PUBLISH
X-ORIGINAL-URL:https://www.neweralutheran.com
X-WR-CALDESC:Events for 
REFRESH-INTERVAL;VALUE=DURATION:PT1H
X-Robots-Tag:noindex
X-PUBLISHED-TTL:PT1H
BEGIN:VTIMEZONE
TZID:America/Chicago
BEGIN:DAYLIGHT
TZOFFSETFROM:-0600
TZOFFSETTO:-0500
TZNAME:CDT
DTSTART:20280312T080000
END:DAYLIGHT
BEGIN:STANDARD
TZOFFSETFROM:-0500
TZOFFSETTO:-0600
TZNAME:CST
DTSTART:20281105T070000
END:STANDARD
BEGIN:DAYLIGHT
TZOFFSETFROM:-0600
TZOFFSETTO:-0500
TZNAME:CDT
DTSTART:20290311T080000
END:DAYLIGHT
BEGIN:STANDARD
TZOFFSETFROM:-0500
TZOFFSETTO:-0600
TZNAME:CST
DTSTART:20291104T070000
END:STANDARD
END:VTIMEZONE
BEGIN:VEVENT
DTSTART;TZID=America/Chicago:20280903T101500
DTEND;TZID=America/Chicago:20280903T104500
DTSTAMP:20260425T151855
CREATED:20250107T212850Z
LAST-MODIFIED:20250107T212850Z
UID:10001133-1851588900-1851590700@www.neweralutheran.com
SUMMARY:Fellowship (Coffee & snacks)
DESCRIPTION:
URL:https://www.neweralutheran.com/event/fellowship-coffee-snacks/2028-09-03/
ORGANIZER;CN="New Era Lutheran Church":MAILTO:neweralutheran@gmail.com
END:VEVENT
BEGIN:VEVENT
DTSTART;TZID=America/Chicago:20280910T101500
DTEND;TZID=America/Chicago:20280910T104500
DTSTAMP:20260425T151855
CREATED:20250107T212850Z
LAST-MODIFIED:20250107T212850Z
UID:10001134-1852193700-1852195500@www.neweralutheran.com
SUMMARY:Fellowship (Coffee & snacks)
DESCRIPTION:
URL:https://www.neweralutheran.com/event/fellowship-coffee-snacks/2028-09-10/
ORGANIZER;CN="New Era Lutheran Church":MAILTO:neweralutheran@gmail.com
END:VEVENT
BEGIN:VEVENT
DTSTART;TZID=America/Chicago:20280913T090000
DTEND;TZID=America/Chicago:20280913T100000
DTSTAMP:20260425T151855
CREATED:20250108T165438Z
LAST-MODIFIED:20250108T165439Z
UID:10001275-1852448400-1852452000@www.neweralutheran.com
SUMMARY:Care & Concern - Location TBD
DESCRIPTION:We are a group of church members who visit home and nursing home shut-ins.  If you have someone you would like to have visited\, please let our group know.  We get together at McDonald’s once a month to discuss visits and projects.
URL:https://www.neweralutheran.com/event/care-concern-mcdonalds-2/2028-09-13/
ORGANIZER;CN="New Era Lutheran Church":MAILTO:neweralutheran@gmail.com
END:VEVENT
BEGIN:VEVENT
DTSTART;TZID=America/Chicago:20280917T101500
DTEND;TZID=America/Chicago:20280917T104500
DTSTAMP:20260425T151855
CREATED:20250107T212850Z
LAST-MODIFIED:20250107T212850Z
UID:10001135-1852798500-1852800300@www.neweralutheran.com
SUMMARY:Fellowship (Coffee & snacks)
DESCRIPTION:
URL:https://www.neweralutheran.com/event/fellowship-coffee-snacks/2028-09-17/
ORGANIZER;CN="New Era Lutheran Church":MAILTO:neweralutheran@gmail.com
END:VEVENT
BEGIN:VEVENT
DTSTART;TZID=America/Chicago:20280924T101500
DTEND;TZID=America/Chicago:20280924T104500
DTSTAMP:20260425T151855
CREATED:20250107T212850Z
LAST-MODIFIED:20250107T212850Z
UID:10001136-1853403300-1853405100@www.neweralutheran.com
SUMMARY:Fellowship (Coffee & snacks)
DESCRIPTION:
URL:https://www.neweralutheran.com/event/fellowship-coffee-snacks/2028-09-24/
ORGANIZER;CN="New Era Lutheran Church":MAILTO:neweralutheran@gmail.com
END:VEVENT
BEGIN:VEVENT
DTSTART;TZID=America/Chicago:20281001T101500
DTEND;TZID=America/Chicago:20281001T104500
DTSTAMP:20260425T151855
CREATED:20250107T212850Z
LAST-MODIFIED:20250107T212850Z
UID:10001137-1854008100-1854009900@www.neweralutheran.com
SUMMARY:Fellowship (Coffee & snacks)
DESCRIPTION:
URL:https://www.neweralutheran.com/event/fellowship-coffee-snacks/2028-10-01/
ORGANIZER;CN="New Era Lutheran Church":MAILTO:neweralutheran@gmail.com
END:VEVENT
BEGIN:VEVENT
DTSTART;TZID=America/Chicago:20281008T101500
DTEND;TZID=America/Chicago:20281008T104500
DTSTAMP:20260425T151855
CREATED:20250107T212850Z
LAST-MODIFIED:20250107T212850Z
UID:10001138-1854612900-1854614700@www.neweralutheran.com
SUMMARY:Fellowship (Coffee & snacks)
DESCRIPTION:
URL:https://www.neweralutheran.com/event/fellowship-coffee-snacks/2028-10-08/
ORGANIZER;CN="New Era Lutheran Church":MAILTO:neweralutheran@gmail.com
END:VEVENT
BEGIN:VEVENT
DTSTART;TZID=America/Chicago:20281011T090000
DTEND;TZID=America/Chicago:20281011T100000
DTSTAMP:20260425T151855
CREATED:20250108T165438Z
LAST-MODIFIED:20250108T165439Z
UID:10001276-1854867600-1854871200@www.neweralutheran.com
SUMMARY:Care & Concern - Location TBD
DESCRIPTION:We are a group of church members who visit home and nursing home shut-ins.  If you have someone you would like to have visited\, please let our group know.  We get together at McDonald’s once a month to discuss visits and projects.
URL:https://www.neweralutheran.com/event/care-concern-mcdonalds-2/2028-10-11/
ORGANIZER;CN="New Era Lutheran Church":MAILTO:neweralutheran@gmail.com
END:VEVENT
BEGIN:VEVENT
DTSTART;TZID=America/Chicago:20281015T101500
DTEND;TZID=America/Chicago:20281015T104500
DTSTAMP:20260425T151855
CREATED:20250107T212850Z
LAST-MODIFIED:20250107T212850Z
UID:10001139-1855217700-1855219500@www.neweralutheran.com
SUMMARY:Fellowship (Coffee & snacks)
DESCRIPTION:
URL:https://www.neweralutheran.com/event/fellowship-coffee-snacks/2028-10-15/
ORGANIZER;CN="New Era Lutheran Church":MAILTO:neweralutheran@gmail.com
END:VEVENT
BEGIN:VEVENT
DTSTART;TZID=America/Chicago:20281022T101500
DTEND;TZID=America/Chicago:20281022T104500
DTSTAMP:20260425T151855
CREATED:20250107T212850Z
LAST-MODIFIED:20250107T212850Z
UID:10001140-1855822500-1855824300@www.neweralutheran.com
SUMMARY:Fellowship (Coffee & snacks)
DESCRIPTION:
URL:https://www.neweralutheran.com/event/fellowship-coffee-snacks/2028-10-22/
ORGANIZER;CN="New Era Lutheran Church":MAILTO:neweralutheran@gmail.com
END:VEVENT
BEGIN:VEVENT
DTSTART;TZID=America/Chicago:20281029T101500
DTEND;TZID=America/Chicago:20281029T104500
DTSTAMP:20260425T151855
CREATED:20250107T212850Z
LAST-MODIFIED:20250107T212850Z
UID:10001141-1856427300-1856429100@www.neweralutheran.com
SUMMARY:Fellowship (Coffee & snacks)
DESCRIPTION:
URL:https://www.neweralutheran.com/event/fellowship-coffee-snacks/2028-10-29/
ORGANIZER;CN="New Era Lutheran Church":MAILTO:neweralutheran@gmail.com
END:VEVENT
BEGIN:VEVENT
DTSTART;TZID=America/Chicago:20281105T101500
DTEND;TZID=America/Chicago:20281105T104500
DTSTAMP:20260425T151855
CREATED:20250107T212850Z
LAST-MODIFIED:20250107T212850Z
UID:10001142-1857032100-1857033900@www.neweralutheran.com
SUMMARY:Fellowship (Coffee & snacks)
DESCRIPTION:
URL:https://www.neweralutheran.com/event/fellowship-coffee-snacks/2028-11-05/
ORGANIZER;CN="New Era Lutheran Church":MAILTO:neweralutheran@gmail.com
END:VEVENT
BEGIN:VEVENT
DTSTART;TZID=America/Chicago:20281108T090000
DTEND;TZID=America/Chicago:20281108T100000
DTSTAMP:20260425T151855
CREATED:20250108T165438Z
LAST-MODIFIED:20250108T165439Z
UID:10001277-1857286800-1857290400@www.neweralutheran.com
SUMMARY:Care & Concern - Location TBD
DESCRIPTION:We are a group of church members who visit home and nursing home shut-ins.  If you have someone you would like to have visited\, please let our group know.  We get together at McDonald’s once a month to discuss visits and projects.
URL:https://www.neweralutheran.com/event/care-concern-mcdonalds-2/2028-11-08/
ORGANIZER;CN="New Era Lutheran Church":MAILTO:neweralutheran@gmail.com
END:VEVENT
BEGIN:VEVENT
DTSTART;TZID=America/Chicago:20281112T101500
DTEND;TZID=America/Chicago:20281112T104500
DTSTAMP:20260425T151855
CREATED:20250107T212850Z
LAST-MODIFIED:20250107T212850Z
UID:10001143-1857636900-1857638700@www.neweralutheran.com
SUMMARY:Fellowship (Coffee & snacks)
DESCRIPTION:
URL:https://www.neweralutheran.com/event/fellowship-coffee-snacks/2028-11-12/
ORGANIZER;CN="New Era Lutheran Church":MAILTO:neweralutheran@gmail.com
END:VEVENT
BEGIN:VEVENT
DTSTART;TZID=America/Chicago:20281119T101500
DTEND;TZID=America/Chicago:20281119T104500
DTSTAMP:20260425T151855
CREATED:20250107T212850Z
LAST-MODIFIED:20250107T212850Z
UID:10001144-1858241700-1858243500@www.neweralutheran.com
SUMMARY:Fellowship (Coffee & snacks)
DESCRIPTION:
URL:https://www.neweralutheran.com/event/fellowship-coffee-snacks/2028-11-19/
ORGANIZER;CN="New Era Lutheran Church":MAILTO:neweralutheran@gmail.com
END:VEVENT
BEGIN:VEVENT
DTSTART;TZID=America/Chicago:20281126T101500
DTEND;TZID=America/Chicago:20281126T104500
DTSTAMP:20260425T151855
CREATED:20250107T212850Z
LAST-MODIFIED:20250107T212850Z
UID:10001145-1858846500-1858848300@www.neweralutheran.com
SUMMARY:Fellowship (Coffee & snacks)
DESCRIPTION:
URL:https://www.neweralutheran.com/event/fellowship-coffee-snacks/2028-11-26/
ORGANIZER;CN="New Era Lutheran Church":MAILTO:neweralutheran@gmail.com
END:VEVENT
BEGIN:VEVENT
DTSTART;TZID=America/Chicago:20281203T101500
DTEND;TZID=America/Chicago:20281203T104500
DTSTAMP:20260425T151855
CREATED:20250107T212850Z
LAST-MODIFIED:20250107T212850Z
UID:10001146-1859451300-1859453100@www.neweralutheran.com
SUMMARY:Fellowship (Coffee & snacks)
DESCRIPTION:
URL:https://www.neweralutheran.com/event/fellowship-coffee-snacks/2028-12-03/
ORGANIZER;CN="New Era Lutheran Church":MAILTO:neweralutheran@gmail.com
END:VEVENT
BEGIN:VEVENT
DTSTART;TZID=America/Chicago:20281210T101500
DTEND;TZID=America/Chicago:20281210T104500
DTSTAMP:20260425T151855
CREATED:20250107T212850Z
LAST-MODIFIED:20250107T212850Z
UID:10001147-1860056100-1860057900@www.neweralutheran.com
SUMMARY:Fellowship (Coffee & snacks)
DESCRIPTION:
URL:https://www.neweralutheran.com/event/fellowship-coffee-snacks/2028-12-10/
ORGANIZER;CN="New Era Lutheran Church":MAILTO:neweralutheran@gmail.com
END:VEVENT
BEGIN:VEVENT
DTSTART;TZID=America/Chicago:20281213T090000
DTEND;TZID=America/Chicago:20281213T100000
DTSTAMP:20260425T151855
CREATED:20250108T165438Z
LAST-MODIFIED:20250108T165439Z
UID:10001278-1860310800-1860314400@www.neweralutheran.com
SUMMARY:Care & Concern - Location TBD
DESCRIPTION:We are a group of church members who visit home and nursing home shut-ins.  If you have someone you would like to have visited\, please let our group know.  We get together at McDonald’s once a month to discuss visits and projects.
URL:https://www.neweralutheran.com/event/care-concern-mcdonalds-2/2028-12-13/
ORGANIZER;CN="New Era Lutheran Church":MAILTO:neweralutheran@gmail.com
END:VEVENT
BEGIN:VEVENT
DTSTART;TZID=America/Chicago:20281217T101500
DTEND;TZID=America/Chicago:20281217T104500
DTSTAMP:20260425T151855
CREATED:20250107T212850Z
LAST-MODIFIED:20250107T212850Z
UID:10001148-1860660900-1860662700@www.neweralutheran.com
SUMMARY:Fellowship (Coffee & snacks)
DESCRIPTION:
URL:https://www.neweralutheran.com/event/fellowship-coffee-snacks/2028-12-17/
ORGANIZER;CN="New Era Lutheran Church":MAILTO:neweralutheran@gmail.com
END:VEVENT
BEGIN:VEVENT
DTSTART;TZID=America/Chicago:20281224T101500
DTEND;TZID=America/Chicago:20281224T104500
DTSTAMP:20260425T151855
CREATED:20250107T212850Z
LAST-MODIFIED:20250107T212850Z
UID:10001149-1861265700-1861267500@www.neweralutheran.com
SUMMARY:Fellowship (Coffee & snacks)
DESCRIPTION:
URL:https://www.neweralutheran.com/event/fellowship-coffee-snacks/2028-12-24/
ORGANIZER;CN="New Era Lutheran Church":MAILTO:neweralutheran@gmail.com
END:VEVENT
BEGIN:VEVENT
DTSTART;TZID=America/Chicago:20281231T101500
DTEND;TZID=America/Chicago:20281231T104500
DTSTAMP:20260425T151855
CREATED:20250107T212850Z
LAST-MODIFIED:20250107T212850Z
UID:10001150-1861870500-1861872300@www.neweralutheran.com
SUMMARY:Fellowship (Coffee & snacks)
DESCRIPTION:
URL:https://www.neweralutheran.com/event/fellowship-coffee-snacks/2028-12-31/
ORGANIZER;CN="New Era Lutheran Church":MAILTO:neweralutheran@gmail.com
END:VEVENT
BEGIN:VEVENT
DTSTART;TZID=America/Chicago:20290107T101500
DTEND;TZID=America/Chicago:20290107T104500
DTSTAMP:20260425T151855
CREATED:20250107T212850Z
LAST-MODIFIED:20250107T212850Z
UID:10001151-1862475300-1862477100@www.neweralutheran.com
SUMMARY:Fellowship (Coffee & snacks)
DESCRIPTION:
URL:https://www.neweralutheran.com/event/fellowship-coffee-snacks/2029-01-07/
ORGANIZER;CN="New Era Lutheran Church":MAILTO:neweralutheran@gmail.com
END:VEVENT
BEGIN:VEVENT
DTSTART;TZID=America/Chicago:20290110T090000
DTEND;TZID=America/Chicago:20290110T100000
DTSTAMP:20260425T151855
CREATED:20250108T165438Z
LAST-MODIFIED:20250108T165439Z
UID:10001279-1862730000-1862733600@www.neweralutheran.com
SUMMARY:Care & Concern - Location TBD
DESCRIPTION:We are a group of church members who visit home and nursing home shut-ins.  If you have someone you would like to have visited\, please let our group know.  We get together at McDonald’s once a month to discuss visits and projects.
URL:https://www.neweralutheran.com/event/care-concern-mcdonalds-2/2029-01-10/
ORGANIZER;CN="New Era Lutheran Church":MAILTO:neweralutheran@gmail.com
END:VEVENT
BEGIN:VEVENT
DTSTART;TZID=America/Chicago:20290114T101500
DTEND;TZID=America/Chicago:20290114T104500
DTSTAMP:20260425T151855
CREATED:20250107T212850Z
LAST-MODIFIED:20250107T212850Z
UID:10001152-1863080100-1863081900@www.neweralutheran.com
SUMMARY:Fellowship (Coffee & snacks)
DESCRIPTION:
URL:https://www.neweralutheran.com/event/fellowship-coffee-snacks/2029-01-14/
ORGANIZER;CN="New Era Lutheran Church":MAILTO:neweralutheran@gmail.com
END:VEVENT
BEGIN:VEVENT
DTSTART;TZID=America/Chicago:20290121T101500
DTEND;TZID=America/Chicago:20290121T104500
DTSTAMP:20260425T151855
CREATED:20250107T212850Z
LAST-MODIFIED:20250107T212850Z
UID:10001153-1863684900-1863686700@www.neweralutheran.com
SUMMARY:Fellowship (Coffee & snacks)
DESCRIPTION:
URL:https://www.neweralutheran.com/event/fellowship-coffee-snacks/2029-01-21/
ORGANIZER;CN="New Era Lutheran Church":MAILTO:neweralutheran@gmail.com
END:VEVENT
BEGIN:VEVENT
DTSTART;TZID=America/Chicago:20290128T101500
DTEND;TZID=America/Chicago:20290128T104500
DTSTAMP:20260425T151855
CREATED:20250107T212850Z
LAST-MODIFIED:20250107T212850Z
UID:10001154-1864289700-1864291500@www.neweralutheran.com
SUMMARY:Fellowship (Coffee & snacks)
DESCRIPTION:
URL:https://www.neweralutheran.com/event/fellowship-coffee-snacks/2029-01-28/
ORGANIZER;CN="New Era Lutheran Church":MAILTO:neweralutheran@gmail.com
END:VEVENT
BEGIN:VEVENT
DTSTART;TZID=America/Chicago:20290204T101500
DTEND;TZID=America/Chicago:20290204T104500
DTSTAMP:20260425T151855
CREATED:20250107T212850Z
LAST-MODIFIED:20250107T212850Z
UID:10001155-1864894500-1864896300@www.neweralutheran.com
SUMMARY:Fellowship (Coffee & snacks)
DESCRIPTION:
URL:https://www.neweralutheran.com/event/fellowship-coffee-snacks/2029-02-04/
ORGANIZER;CN="New Era Lutheran Church":MAILTO:neweralutheran@gmail.com
END:VEVENT
BEGIN:VEVENT
DTSTART;TZID=America/Chicago:20290211T101500
DTEND;TZID=America/Chicago:20290211T104500
DTSTAMP:20260425T151855
CREATED:20250107T212850Z
LAST-MODIFIED:20250107T212850Z
UID:10001156-1865499300-1865501100@www.neweralutheran.com
SUMMARY:Fellowship (Coffee & snacks)
DESCRIPTION:
URL:https://www.neweralutheran.com/event/fellowship-coffee-snacks/2029-02-11/
ORGANIZER;CN="New Era Lutheran Church":MAILTO:neweralutheran@gmail.com
END:VEVENT
BEGIN:VEVENT
DTSTART;TZID=America/Chicago:20290214T090000
DTEND;TZID=America/Chicago:20290214T100000
DTSTAMP:20260425T151855
CREATED:20250108T165438Z
LAST-MODIFIED:20250108T165439Z
UID:10001280-1865754000-1865757600@www.neweralutheran.com
SUMMARY:Care & Concern - Location TBD
DESCRIPTION:We are a group of church members who visit home and nursing home shut-ins.  If you have someone you would like to have visited\, please let our group know.  We get together at McDonald’s once a month to discuss visits and projects.
URL:https://www.neweralutheran.com/event/care-concern-mcdonalds-2/2029-02-14/
ORGANIZER;CN="New Era Lutheran Church":MAILTO:neweralutheran@gmail.com
END:VEVENT
END:VCALENDAR