BEGIN:VCALENDAR
VERSION:2.0
PRODID:-// - ECPv6.9.0//NONSGML v1.0//EN
CALSCALE:GREGORIAN
METHOD:PUBLISH
X-ORIGINAL-URL:https://www.neweralutheran.com
X-WR-CALDESC:Events for 
REFRESH-INTERVAL;VALUE=DURATION:PT1H
X-Robots-Tag:noindex
X-PUBLISHED-TTL:PT1H
BEGIN:VTIMEZONE
TZID:America/Chicago
BEGIN:DAYLIGHT
TZOFFSETFROM:-0600
TZOFFSETTO:-0500
TZNAME:CDT
DTSTART:20240310T080000
END:DAYLIGHT
BEGIN:STANDARD
TZOFFSETFROM:-0500
TZOFFSETTO:-0600
TZNAME:CST
DTSTART:20241103T070000
END:STANDARD
END:VTIMEZONE
BEGIN:VEVENT
DTSTART;TZID=America/Chicago:20240811T100000
DTEND;TZID=America/Chicago:20240811T110000
DTSTAMP:20260425T053819
CREATED:20240806T173121Z
LAST-MODIFIED:20240806T173356Z
UID:10000845-1723370400-1723374000@www.neweralutheran.com
SUMMARY:Worship Service w/Pr John Grebner
DESCRIPTION:
URL:https://www.neweralutheran.com/event/worship-service-w-pr-john-grebner/
END:VEVENT
BEGIN:VEVENT
DTSTART;TZID=America/Chicago:20240813T090000
DTEND;TZID=America/Chicago:20240813T140000
DTSTAMP:20260425T053819
CREATED:20230525T154049Z
LAST-MODIFIED:20230525T154049Z
UID:10000786-1723539600-1723557600@www.neweralutheran.com
SUMMARY:Sewing Group Meets @ Fellowship Hall
DESCRIPTION:Join us in sewing quilts (lap robes and Lutheran World Relief quilts) every second Tuesday of each month.  We start at 9 am and finish around 2 pm. Bring a sack lunch.  Contact Becki Petersen for more information.
URL:https://www.neweralutheran.com/event/sewing-group-meets-fellowship-hall/2024-08-13/
ORGANIZER;CN="New Era Lutheran Church":MAILTO:neweralutheran@gmail.com
END:VEVENT
BEGIN:VEVENT
DTSTART;TZID=America/Chicago:20240813T180000
DTEND;TZID=America/Chicago:20240813T193000
DTSTAMP:20260425T053819
CREATED:20230314T182518Z
LAST-MODIFIED:20230314T182518Z
UID:10000693-1723572000-1723577400@www.neweralutheran.com
SUMMARY:Council Meeting
DESCRIPTION:
URL:https://www.neweralutheran.com/event/council-meeting-4/2024-08-13/
ORGANIZER;CN="New Era Lutheran Church":MAILTO:neweralutheran@gmail.com
END:VEVENT
BEGIN:VEVENT
DTSTART;TZID=America/Chicago:20240814T090000
DTEND;TZID=America/Chicago:20240814T100000
DTSTAMP:20260425T053819
CREATED:20230523T154450Z
LAST-MODIFIED:20230523T154450Z
UID:10000725-1723626000-1723629600@www.neweralutheran.com
SUMMARY:Care & Concern @ McDonald's
DESCRIPTION:We are a group of church members who visit home and nursing home shut-ins.  If you have someone you would like to have visited\, please let our group know.  We get together at McDonald’s once a month to discuss visits and projects.
URL:https://www.neweralutheran.com/event/care-concern-mcdonalds/2024-08-14/
ORGANIZER;CN="New Era Lutheran Church":MAILTO:neweralutheran@gmail.com
END:VEVENT
BEGIN:VEVENT
DTSTART;TZID=America/Chicago:20240818T100000
DTEND;TZID=America/Chicago:20240818T110000
DTSTAMP:20260425T053819
CREATED:20240806T173250Z
LAST-MODIFIED:20240806T173250Z
UID:10000846-1723975200-1723978800@www.neweralutheran.com
SUMMARY:Worship Service w/Pr John Meyer
DESCRIPTION:
URL:https://www.neweralutheran.com/event/worship-service-w-pr-john-meyer/
END:VEVENT
BEGIN:VEVENT
DTSTART;TZID=America/Chicago:20240823T190000
DTEND;TZID=America/Chicago:20240823T210000
DTSTAMP:20260425T053819
CREATED:20240806T175818Z
LAST-MODIFIED:20240806T180428Z
UID:10000911-1724439600-1724446800@www.neweralutheran.com
SUMMARY:Need Volunteers!!
DESCRIPTION:Need volunteers to fill seats in the gym for a movie production.  Need audience for two hours on Friday\, Aug 23.  No summer clothes; need dark\, fall type clothes\, coats\, etc. The audience will watch for signs like\, Applaud\, Laugh\, etc\,  For more infomation\, call 563-263-5356 and we will return your call on Tuesdays and Thursdays.
URL:https://www.neweralutheran.com/event/need-volunteers/
END:VEVENT
BEGIN:VEVENT
DTSTART;TZID=America/Chicago:20240825T100000
DTEND;TZID=America/Chicago:20240825T110000
DTSTAMP:20260425T053819
CREATED:20240806T173435Z
LAST-MODIFIED:20240806T173435Z
UID:10000847-1724580000-1724583600@www.neweralutheran.com
SUMMARY:Worship Service w/Pr Joh Meyer
DESCRIPTION:
URL:https://www.neweralutheran.com/event/worship-service-w-pr-joh-meyer/
END:VEVENT
END:VCALENDAR